BEGIN:VCALENDAR
VERSION:2.0
PRODID:-//The Eberhart Foundation - ECPv6.15.20//NONSGML v1.0//EN
CALSCALE:GREGORIAN
METHOD:PUBLISH
X-WR-CALNAME:The Eberhart Foundation
X-ORIGINAL-URL:https://theeberhartfoundation.org
X-WR-CALDESC:Events for The Eberhart Foundation
REFRESH-INTERVAL;VALUE=DURATION:PT1H
X-Robots-Tag:noindex
X-PUBLISHED-TTL:PT1H
BEGIN:VTIMEZONE
TZID:America/New_York
BEGIN:DAYLIGHT
TZOFFSETFROM:-0500
TZOFFSETTO:-0400
TZNAME:EDT
DTSTART:20180311T070000
END:DAYLIGHT
BEGIN:STANDARD
TZOFFSETFROM:-0400
TZOFFSETTO:-0500
TZNAME:EST
DTSTART:20181104T060000
END:STANDARD
BEGIN:DAYLIGHT
TZOFFSETFROM:-0500
TZOFFSETTO:-0400
TZNAME:EDT
DTSTART:20190310T070000
END:DAYLIGHT
BEGIN:STANDARD
TZOFFSETFROM:-0400
TZOFFSETTO:-0500
TZNAME:EST
DTSTART:20191103T060000
END:STANDARD
BEGIN:DAYLIGHT
TZOFFSETFROM:-0500
TZOFFSETTO:-0400
TZNAME:EDT
DTSTART:20200308T070000
END:DAYLIGHT
BEGIN:STANDARD
TZOFFSETFROM:-0400
TZOFFSETTO:-0500
TZNAME:EST
DTSTART:20201101T060000
END:STANDARD
BEGIN:DAYLIGHT
TZOFFSETFROM:-0500
TZOFFSETTO:-0400
TZNAME:EDT
DTSTART:20210314T070000
END:DAYLIGHT
BEGIN:STANDARD
TZOFFSETFROM:-0400
TZOFFSETTO:-0500
TZNAME:EST
DTSTART:20211107T060000
END:STANDARD
END:VTIMEZONE
BEGIN:VTIMEZONE
TZID:UTC
BEGIN:STANDARD
TZOFFSETFROM:+0000
TZOFFSETTO:+0000
TZNAME:UTC
DTSTART:20170101T000000
END:STANDARD
END:VTIMEZONE
BEGIN:VEVENT
DTSTART;TZID=America/New_York:20200215T130000
DTEND;TZID=America/New_York:20200215T143000
DTSTAMP:20260422T103917
CREATED:20200128T143034Z
LAST-MODIFIED:20200128T143034Z
UID:3671-1581771600-1581777000@theeberhartfoundation.org
SUMMARY:New Year. New Vision.
DESCRIPTION:Join us for a financial wellness seminar to learn more about The Three R’s. Real Estate\, Retirement\, and Revenue.
URL:https://theeberhartfoundation.org/event/new-year-new-vision/
LOCATION:Exchange Park Recreation Center\, 2771 Columbia Dr.\, Decatur\, GA\, 30034
CATEGORIES:Education
ATTACH;FMTTYPE=image/jpeg:https://theeberhartfoundation.org/wp-content/uploads/2020/01/new-vision-flyer.jpg
END:VEVENT
BEGIN:VEVENT
DTSTART;TZID=America/New_York:20190413T143000
DTEND;TZID=America/New_York:20190413T163000
DTSTAMP:20260422T103917
CREATED:20190305T232334Z
LAST-MODIFIED:20190305T232706Z
UID:3585-1555165800-1555173000@theeberhartfoundation.org
SUMMARY:Free Archery Class
DESCRIPTION:Join us for a FREE archery class! Did you know there are at least 41 colleges/universities with archery clubs? Get your child involved today! Kids ages 8-17 are eligible to participate.
URL:https://theeberhartfoundation.org/event/free-archery-class/
LOCATION:Panola Mountain State Park\, 2600 GA. Hwy. 155 SW\, Stockbridge\, GA\, 30281\, United States
CATEGORIES:Fitness
ATTACH;FMTTYPE=image/jpeg:https://theeberhartfoundation.org/wp-content/uploads/2019/03/archery-image.jpg
END:VEVENT
BEGIN:VEVENT
DTSTART;TZID=UTC:20190216T140000
DTEND;TZID=UTC:20190216T160000
DTSTAMP:20260422T103917
CREATED:20190201T004003Z
LAST-MODIFIED:20190201T015854Z
UID:3578-1550325600-1550332800@theeberhartfoundation.org
SUMMARY:Free Wellness Workshop: Small Steps to Health and Wealth
DESCRIPTION:When it comes to the well-being of many individuals\, the old saying that health equals wealth continues to ring true. In terms of eating habits\, those earning the least are much less to say they eat healthy every day compared to those earning more. \nOur Wellness Workshop will guide individuals on small steps to health and wealth. Individuals will learn how to take action to improve their health and personal finances. \nClick here to register: \nhttps://www.eventbrite.com/e/wellness-workshop-small-steps-to-health-and-wealth-tickets-55310182244?aff=utm_source%3Deb_email%26utm_medium%3Demail%26utm_campaign%3Dnew_event_email&utm_term=eventurl_text \n 
URL:https://theeberhartfoundation.org/event/free-wellness-workshop-small-steps-to-health-and-wealth/
LOCATION:Decatur Recreation Center\, 241 Sycamore St.\, Decatur\, GA\, 30030\, United States
CATEGORIES:Fitness
ATTACH;FMTTYPE=image/jpeg:https://theeberhartfoundation.org/wp-content/uploads/2019/02/wellness-workshop.jpeg
END:VEVENT
BEGIN:VEVENT
DTSTART;TZID=UTC:20190115T080000
DTEND;TZID=UTC:20190115T170000
DTSTAMP:20260422T103917
CREATED:20180329T142410Z
LAST-MODIFIED:20180406T041827Z
UID:87-1547539200-1547571600@theeberhartfoundation.org
SUMMARY:MLK Jr. Day of Service
DESCRIPTION:Taking place each year on the third Monday in January\, the MLK Day of Service is the only federal holiday observed as a national day of service – a “day on\, not a day off.” The MLK Day of Service is a part of United We Serve\, the President’s national call to service initiative. It calls for Americans from all walks of life to work together to provide solutions to our most pressing national problems. The MLK Day of Service empowers individuals\, strengthens communities\, bridges barriers\, creates solutions to social problems\, and moves us closer to Dr. King’s vision of a “Beloved Community.” The Eberhart Foundation will partner with multiple local nonprofits offering volunteer opportunities that address critical community issues. JOIN US! \n 
URL:https://theeberhartfoundation.org/event/mlkday/
LOCATION:Decatur\, GA\, Decatur\, GA\, 30032\, United States
CATEGORIES:Family,Service Project
ATTACH;FMTTYPE=image/jpeg:https://theeberhartfoundation.org/wp-content/uploads/2017/10/MLK.jpg
END:VEVENT
BEGIN:VEVENT
DTSTART;TZID=UTC:20181027T180000
DTEND;TZID=UTC:20181027T200000
DTSTAMP:20260422T103917
CREATED:20180326T025340Z
LAST-MODIFIED:20181001T004940Z
UID:3512-1540663200-1540670400@theeberhartfoundation.org
SUMMARY:2nd Annual Grand Tasting
DESCRIPTION:Join us for an entertaining and educational evening at our Wine Tasting Fundraiser. Explore the whys and hows of your favorite wines and enjoy samples of several different varieties. Whether you’re the experienced oenophile or the wine lover “in waiting\,” this event is sure to be a pleasure for all. Proceeds support our youth programs.
URL:https://theeberhartfoundation.org/event/2nd-annual-grand-tasting/
LOCATION:Rainbow Community Clubhouse\, 2624 Rainbow Creek Dr.\, Decatur\, GA\, 30034
CATEGORIES:Awarness,Fundraiser
ATTACH;FMTTYPE=image/jpeg:https://theeberhartfoundation.org/wp-content/uploads/2018/04/red-wine-tasting-P5L8877-scaled.jpg
END:VEVENT
BEGIN:VEVENT
DTSTART;TZID=UTC:20181020T100000
DTEND;TZID=UTC:20181020T150000
DTSTAMP:20260422T103917
CREATED:20180328T011219Z
LAST-MODIFIED:20180406T031034Z
UID:3152-1540029600-1540047600@theeberhartfoundation.org
SUMMARY:FREE Leadership Workshop
DESCRIPTION:Our Youth Leadership Workshop is specifically designed to empower teens and help them develop tools to create an exciting future. Teens will discover the value of working as a team with their peers as they learn to trust others and develop trust-worthiness in themselves. Teens will learn how resistance (to their parents\, teachers\, responsibilities\, etc) affects a cycle of resentment in their lives. They will also have experiences that will allow them to reconcile painful experiences that have been holding them back. Our intent is to give teens tools and techniques that will assist them in clearer communication as well as give them ways to set and accomplish personal goals.  We hope to transform each teens’ experience of themselves so that they feel more personal responsibility and self-esteem in their lives by creating a foundation of principles and values that serve them in being more effective individuals and society members.
URL:https://theeberhartfoundation.org/event/life-skills-culinary-workshop/
LOCATION:Charlie Yates Golf Course\, 10 Lakeside Village Dr SE\, Atlanta\, GA\, 30317
CATEGORIES:Education,Leadership
ATTACH;FMTTYPE=image/jpeg:https://theeberhartfoundation.org/wp-content/uploads/2018/03/bai-internship4-scaled.jpg
END:VEVENT
BEGIN:VEVENT
DTSTART;TZID=UTC:20180922T100000
DTEND;TZID=UTC:20180922T140000
DTSTAMP:20260422T103917
CREATED:20180327T032359Z
LAST-MODIFIED:20180809T235530Z
UID:3519-1537610400-1537624800@theeberhartfoundation.org
SUMMARY:FREE Golf Clinic
DESCRIPTION:The Full Court Fitness golf clinics are designed to introduce the basic skills of grip\, stance\, and alignment in a language that the kids can understand and remember. Fun and exciting contests are used to help each junior golfer learn the full swing as well as putting\, chipping\, and pitching. We teach more than golf skills. We strive to build confidence\, team building\, and social skills as well as self-esteem at our golf clinics.
URL:https://theeberhartfoundation.org/event/free-golf-clinic/
LOCATION:Charlie Yates Golf Course\, 10 Lakeside Village Dr SE\, Atlanta\, GA\, 30317
CATEGORIES:Fitness,Health
ATTACH;FMTTYPE=image/jpeg:https://theeberhartfoundation.org/wp-content/uploads/2018/04/golf2.jpg
END:VEVENT
BEGIN:VEVENT
DTSTART;TZID=UTC:20180728T090000
DTEND;TZID=UTC:20180728T110000
DTSTAMP:20260422T103917
CREATED:20180325T021321Z
LAST-MODIFIED:20180406T041713Z
UID:3509-1532768400-1532775600@theeberhartfoundation.org
SUMMARY:FREE Tennis Clinic
DESCRIPTION:Grab your tennis racket and get ready to play! Whether you’re a beginning\, an intermediate or an advanced player\, this program will improve your game and help you get more enjoyment from tennis. Each player is given personal attention and taught through repetition in an enjoyable\, lively atmosphere.  Players learn proper grips\, footwork\, strokes\, volleys and serves during a series of drills designed to teach skills in a fun and dynamic way. In addition to developing a love for tennis\, athletes will learn the rules and etiquette that make tennis such an exciting game to play.
URL:https://theeberhartfoundation.org/event/free-tennis-clinic/
LOCATION:East Lake Park
CATEGORIES:Fitness,Health
ATTACH;FMTTYPE=image/jpeg:https://theeberhartfoundation.org/wp-content/uploads/2018/04/IMG_28071_01.jpg
END:VEVENT
BEGIN:VEVENT
DTSTART;TZID=UTC:20180421T090000
DTEND;TZID=UTC:20180421T113000
DTSTAMP:20260422T103917
CREATED:20180324T015945Z
LAST-MODIFIED:20180406T041656Z
UID:3505-1524301200-1524310200@theeberhartfoundation.org
SUMMARY:Keep Dekalb Beautiful | Gresham Park Community Cleanup
DESCRIPTION:Please join and Commissioner Larry Johnson’s office\, DeKalb Sheriff Department\, and Keep DeKalb Beautiful  in the 15th Annual District 3 Community Cleanup (Day 4 of 5)! Please share the attached flyer wherever you deem appropriate. We look forward to seeing you there!
URL:https://theeberhartfoundation.org/event/keep-dekalb-beautiful-gresham-park-community-cleanup/
LOCATION:Walmart Supercenter\, 2427 Gresham Road SE\, Atlanta\, GA\, 30316
CATEGORIES:Environment,Family,Service Project
ATTACH;FMTTYPE=image/jpeg:https://theeberhartfoundation.org/wp-content/uploads/2018/04/home-and-garden-cleaning-tools-PT4LW9G-scaled.jpg
END:VEVENT
BEGIN:VEVENT
DTSTART;TZID=UTC:20180414T083000
DTEND;TZID=UTC:20180414T120000
DTSTAMP:20260422T103917
CREATED:20180323T014523Z
LAST-MODIFIED:20180406T041632Z
UID:3501-1523694600-1523707200@theeberhartfoundation.org
SUMMARY:Keep Dekalb Beautiful | Community Clean Up
DESCRIPTION:Join Commissioner Johnson’s office in kicking off the 1st annual Cedar Grove Neighborhood Association Community-Wide Cleanup. T-shirts will be provided to participants. Please see above\, attached flyer for additional details – and feel free to share widely!
URL:https://theeberhartfoundation.org/event/keep-dekalb-beautiful-community-clean-up/
LOCATION:GA
CATEGORIES:Environment,Family,Service Project
ATTACH;FMTTYPE=image/jpeg:https://theeberhartfoundation.org/wp-content/uploads/2018/04/flowers-in-garden-PK5U32K-scaled.jpg
END:VEVENT
END:VCALENDAR