BEGIN:VCALENDAR
VERSION:2.0
PRODID:-//The Eberhart Foundation - ECPv6.15.20//NONSGML v1.0//EN
CALSCALE:GREGORIAN
METHOD:PUBLISH
X-WR-CALNAME:The Eberhart Foundation
X-ORIGINAL-URL:https://theeberhartfoundation.org
X-WR-CALDESC:Events for The Eberhart Foundation
REFRESH-INTERVAL;VALUE=DURATION:PT1H
X-Robots-Tag:noindex
X-PUBLISHED-TTL:PT1H
BEGIN:VTIMEZONE
TZID:UTC
BEGIN:STANDARD
TZOFFSETFROM:+0000
TZOFFSETTO:+0000
TZNAME:UTC
DTSTART:20170101T000000
END:STANDARD
END:VTIMEZONE
BEGIN:VEVENT
DTSTART;TZID=UTC:20190115T080000
DTEND;TZID=UTC:20190115T170000
DTSTAMP:20260422T132110
CREATED:20180329T142410Z
LAST-MODIFIED:20180406T041827Z
UID:87-1547539200-1547571600@theeberhartfoundation.org
SUMMARY:MLK Jr. Day of Service
DESCRIPTION:Taking place each year on the third Monday in January\, the MLK Day of Service is the only federal holiday observed as a national day of service – a “day on\, not a day off.” The MLK Day of Service is a part of United We Serve\, the President’s national call to service initiative. It calls for Americans from all walks of life to work together to provide solutions to our most pressing national problems. The MLK Day of Service empowers individuals\, strengthens communities\, bridges barriers\, creates solutions to social problems\, and moves us closer to Dr. King’s vision of a “Beloved Community.” The Eberhart Foundation will partner with multiple local nonprofits offering volunteer opportunities that address critical community issues. JOIN US! \n 
URL:https://theeberhartfoundation.org/event/mlkday/
LOCATION:Decatur\, GA\, Decatur\, GA\, 30032\, United States
CATEGORIES:Family,Service Project
ATTACH;FMTTYPE=image/jpeg:https://theeberhartfoundation.org/wp-content/uploads/2017/10/MLK.jpg
END:VEVENT
BEGIN:VEVENT
DTSTART;TZID=UTC:20180421T090000
DTEND;TZID=UTC:20180421T113000
DTSTAMP:20260422T132110
CREATED:20180324T015945Z
LAST-MODIFIED:20180406T041656Z
UID:3505-1524301200-1524310200@theeberhartfoundation.org
SUMMARY:Keep Dekalb Beautiful | Gresham Park Community Cleanup
DESCRIPTION:Please join and Commissioner Larry Johnson’s office\, DeKalb Sheriff Department\, and Keep DeKalb Beautiful  in the 15th Annual District 3 Community Cleanup (Day 4 of 5)! Please share the attached flyer wherever you deem appropriate. We look forward to seeing you there!
URL:https://theeberhartfoundation.org/event/keep-dekalb-beautiful-gresham-park-community-cleanup/
LOCATION:Walmart Supercenter\, 2427 Gresham Road SE\, Atlanta\, GA\, 30316
CATEGORIES:Environment,Family,Service Project
ATTACH;FMTTYPE=image/jpeg:https://theeberhartfoundation.org/wp-content/uploads/2018/04/home-and-garden-cleaning-tools-PT4LW9G-scaled.jpg
END:VEVENT
BEGIN:VEVENT
DTSTART;TZID=UTC:20180414T083000
DTEND;TZID=UTC:20180414T120000
DTSTAMP:20260422T132110
CREATED:20180323T014523Z
LAST-MODIFIED:20180406T041632Z
UID:3501-1523694600-1523707200@theeberhartfoundation.org
SUMMARY:Keep Dekalb Beautiful | Community Clean Up
DESCRIPTION:Join Commissioner Johnson’s office in kicking off the 1st annual Cedar Grove Neighborhood Association Community-Wide Cleanup. T-shirts will be provided to participants. Please see above\, attached flyer for additional details – and feel free to share widely!
URL:https://theeberhartfoundation.org/event/keep-dekalb-beautiful-community-clean-up/
LOCATION:GA
CATEGORIES:Environment,Family,Service Project
ATTACH;FMTTYPE=image/jpeg:https://theeberhartfoundation.org/wp-content/uploads/2018/04/flowers-in-garden-PK5U32K-scaled.jpg
END:VEVENT
END:VCALENDAR